BEGIN:VCALENDAR
VERSION:2.0
PRODID:-//Eventin//Event Calendar//EN
CALSCALE:GREGORIAN
METHOD:PUBLISH
BEGIN:VEVENT
UID:9b564312d7fe70fda56bfead23da5bce@spruceroot.org
SUMMARY:Heat Pump Install: Free 3 Day Workshop
DESCRIPTION:Looking for a new career path? Ready to take the next steps and
  work with experienced professionals in the electrical or mechanical indust
 ry? This three-day workshop will provide you with an understanding of how t
 o make that career move. \n Join Tongass Electrical\, Schmolck Mechanical\,
  and Spruce Root for a three-day introductory training. This training is o
 pen to anyone interested in learning more about heat pump installation\, el
 ectrical\, or mechanical careers. Click here to apply today.\nKey Workshop 
 Outcomes: \n\nHands-on exposure to basic electrical and mechanical skills\
 nUnderstanding of career pathways in the electrician and mechanic trades\nI
 nsights into required certifications\, training\, and advancement opportuni
 ties\nDirect interaction with industry professionals from Tongass Electric 
 and Schmolck Mechanical\nIncreased awareness of job opportunities in SE AK\
 nPractical knowledge of workplace expectations and industry standards\nClea
 r next steps for entering training programs or apprenticeships\n\nClick her
 e to apply today.\nFor questions or more information\, contact haley@spruce
 root.org or call (907) 586-9251\n 
LOCATION:Generations Southeast Klawock
DTSTAMP:20260423T031252Z
DTSTART:20260609T170000Z
DTEND:20260612T010000Z
END:VEVENT
END:VCALENDAR
