BEGIN:VCALENDAR
VERSION:2.0
PRODID:-//Eventin//Event Calendar//EN
CALSCALE:GREGORIAN
METHOD:PUBLISH
BEGIN:VEVENT
UID:1233a5528b497637c0be28069854858e@spruceroot.org
SUMMARY:Business Basics for Artists
DESCRIPTION:Are you interested in starting or growing your arts-based busin
 ess?Spruce Root and Sealaska Heritage Institute are offering a Path to Pros
 perity Business Basics for Artists workshop\, a virtual event May 7-9.The p
 rogram is open to all Southeast Alaska artists and Sealaska shareholders\, 
 and is designed to equip artists with practical business knowledge to help 
 navigate the unique challenges of the region. Our curriculum focuses on ess
 ential skills to turn your art into a thriving business.You’ll learn stra
 tegies and tools for:• Marketing & Pricing Your Art• Branding & Custome
 r Discovery• Business Planning• Financial Projections• Grant-writing
 • Business Licensing & AccountingLed by experienced instructors\, this wo
 rkshop offers valuable insights and support to help you build a sustainable
  business around your art.Invest in your craft and future — apply for the
  Business Basics for Artists workshop today!Learn more and apply at www.spr
 uceroot.org/businessbasics
LOCATION:Online
DTSTAMP:20260425T104829Z
DTSTART:20250507T170000Z
DTEND:20250509T230000Z
END:VEVENT
END:VCALENDAR
